BEGIN:VCALENDAR
VERSION:2.0
PRODID:-//Connecticut Humane Society - ECPv6.15.18//NONSGML v1.0//EN
CALSCALE:GREGORIAN
METHOD:PUBLISH
X-WR-CALNAME:Connecticut Humane Society
X-ORIGINAL-URL:https://cthumane.org
X-WR-CALDESC:Events for Connecticut Humane Society
REFRESH-INTERVAL;VALUE=DURATION:PT1H
X-Robots-Tag:noindex
X-PUBLISHED-TTL:PT1H
BEGIN:VTIMEZONE
TZID:America/New_York
BEGIN:DAYLIGHT
TZOFFSETFROM:-0500
TZOFFSETTO:-0400
TZNAME:EDT
DTSTART:20240310T070000
END:DAYLIGHT
BEGIN:STANDARD
TZOFFSETFROM:-0400
TZOFFSETTO:-0500
TZNAME:EST
DTSTART:20241103T060000
END:STANDARD
BEGIN:DAYLIGHT
TZOFFSETFROM:-0500
TZOFFSETTO:-0400
TZNAME:EDT
DTSTART:20250309T070000
END:DAYLIGHT
BEGIN:STANDARD
TZOFFSETFROM:-0400
TZOFFSETTO:-0500
TZNAME:EST
DTSTART:20251102T060000
END:STANDARD
BEGIN:DAYLIGHT
TZOFFSETFROM:-0500
TZOFFSETTO:-0400
TZNAME:EDT
DTSTART:20260308T070000
END:DAYLIGHT
BEGIN:STANDARD
TZOFFSETFROM:-0400
TZOFFSETTO:-0500
TZNAME:EST
DTSTART:20261101T060000
END:STANDARD
END:VTIMEZONE
BEGIN:VEVENT
DTSTART;TZID=America/New_York:20250305T180000
DTEND;TZID=America/New_York:20250305T190000
DTSTAMP:20260423T050416
CREATED:20241217T180259Z
LAST-MODIFIED:20250131T214923Z
UID:10000381-1741197600-1741201200@cthumane.org
SUMMARY:Animal Resource Center Info Session at the Ridgefield Library
DESCRIPTION:A fur-tastic animal resource center is coming to Fairfield County in 2025\, and you will want to be part of the pack! \nJoin an informal info session on Wednesday\, March 5th from 6:00 – 7:00 PM at the Ridgefield Library (472 Main Street\, Ridgefield\, CT) to get the inside scoop on this paws-itively heartwarming project. Get all the details on the public low-fee vet clinic\, pet food pantry\, and more programs changing local pets’ lives and the families who love them. Even sneak a peek at the building plans and design — think spacious play areas\, comfy napping nooks\, and outdoor playscapes where pets can run\, play\, and live their best lives. \nLearn about the CT Humane Society and volunteer opportunities\, or simply share a vision for a more humane community! Hand in paw with this animal resource center\, making a difference for pets in need. Mark your calendars and get ready to unleash your passion — this meet-up will be a total tail-wagger! \nThere is no cost to attend and you will not be solicited. This event is not sponsored by the Ridgefield Library. \nRSVP to the Info Session  \nCan’t make it? No worries! Contact Kayleigh at kshettleworth@cthumane.org or 860-594-4502 ext. 6307 to schedule another time to learn more about the project.
URL:https://cthumane.org/event/animal-resource-center-info-session-at-the-ridgefield-library/
LOCATION:Ridgefield Library\, 472 Main Street\, Ridgefield\, 06877\, United States
ATTACH;FMTTYPE=image/png:https://cthumane.org/wp-content/uploads/2024/12/Ridgefield-Library-Thumbnail-1-1.png
ORGANIZER;CN="Connecticut Humane Society":MAILTO:info@cthumane.org
END:VEVENT
END:VCALENDAR